BEGIN:VCALENDAR
VERSION:2.0
PRODID:-//Vaya Health - ECPv6.15.20//NONSGML v1.0//EN
CALSCALE:GREGORIAN
METHOD:PUBLISH
X-WR-CALNAME:Vaya Health
X-ORIGINAL-URL:https://www.vayahealth.com
X-WR-CALDESC:Events for Vaya Health
REFRESH-INTERVAL;VALUE=DURATION:PT1H
X-Robots-Tag:noindex
X-PUBLISHED-TTL:PT1H
BEGIN:VTIMEZONE
TZID:America/New_York
BEGIN:DAYLIGHT
TZOFFSETFROM:-0500
TZOFFSETTO:-0400
TZNAME:EDT
DTSTART:20250309T070000
END:DAYLIGHT
BEGIN:STANDARD
TZOFFSETFROM:-0400
TZOFFSETTO:-0500
TZNAME:EST
DTSTART:20251102T060000
END:STANDARD
BEGIN:DAYLIGHT
TZOFFSETFROM:-0500
TZOFFSETTO:-0400
TZNAME:EDT
DTSTART:20260308T070000
END:DAYLIGHT
BEGIN:STANDARD
TZOFFSETFROM:-0400
TZOFFSETTO:-0500
TZNAME:EST
DTSTART:20261101T060000
END:STANDARD
BEGIN:DAYLIGHT
TZOFFSETFROM:-0500
TZOFFSETTO:-0400
TZNAME:EDT
DTSTART:20270314T070000
END:DAYLIGHT
BEGIN:STANDARD
TZOFFSETFROM:-0400
TZOFFSETTO:-0500
TZNAME:EST
DTSTART:20271107T060000
END:STANDARD
END:VTIMEZONE
BEGIN:VEVENT
DTSTART;TZID=America/New_York:20260616T180000
DTEND;TZID=America/New_York:20260616T200000
DTSTAMP:20260422T054806
CREATED:20260126T182506Z
LAST-MODIFIED:20260126T182510Z
UID:10001724-1781632800-1781640000@www.vayahealth.com
SUMMARY:CFAC Meeting - Region 4
DESCRIPTION:Consumer and Family Advisory Committee (CFAC) MeetingRegion 4 Counties: Alamance\, Caswell\, Chatham\, Franklin\, Granville\, Person\, Rockingham\, Stokes\, Vance \n\n\n\nSign up to make public comment by emailing your name\, county of residence\, and subject matter to cfac@vayahealth.com or call any CFAC support staff (1-800-893-6246). \n\n\n\nMeeting connection:Phone: 1-828-552-4129   Conference ID: 694 245 406#
URL:https://www.vayahealth.com/event/cfac-meeting-region-4/2026-06-16/
ORGANIZER;CN="Member Engagement":MAILTO:cfac@vayahealth.com
END:VEVENT
BEGIN:VEVENT
DTSTART;TZID=America/New_York:20260818T180000
DTEND;TZID=America/New_York:20260818T200000
DTSTAMP:20260422T054806
CREATED:20260126T182506Z
LAST-MODIFIED:20260126T182510Z
UID:10001725-1787076000-1787083200@www.vayahealth.com
SUMMARY:CFAC Meeting - Region 4
DESCRIPTION:Consumer and Family Advisory Committee (CFAC) MeetingRegion 4 Counties: Alamance\, Caswell\, Chatham\, Franklin\, Granville\, Person\, Rockingham\, Stokes\, Vance \n\n\n\nSign up to make public comment by emailing your name\, county of residence\, and subject matter to cfac@vayahealth.com or call any CFAC support staff (1-800-893-6246). \n\n\n\nMeeting connection:Phone: 1-828-552-4129   Conference ID: 694 245 406#
URL:https://www.vayahealth.com/event/cfac-meeting-region-4/2026-08-18/
ORGANIZER;CN="Member Engagement":MAILTO:cfac@vayahealth.com
END:VEVENT
BEGIN:VEVENT
DTSTART;TZID=America/New_York:20261020T180000
DTEND;TZID=America/New_York:20261020T200000
DTSTAMP:20260422T054806
CREATED:20260126T182506Z
LAST-MODIFIED:20260126T182510Z
UID:10001726-1792519200-1792526400@www.vayahealth.com
SUMMARY:CFAC Meeting - Region 4
DESCRIPTION:Consumer and Family Advisory Committee (CFAC) MeetingRegion 4 Counties: Alamance\, Caswell\, Chatham\, Franklin\, Granville\, Person\, Rockingham\, Stokes\, Vance \n\n\n\nSign up to make public comment by emailing your name\, county of residence\, and subject matter to cfac@vayahealth.com or call any CFAC support staff (1-800-893-6246). \n\n\n\nMeeting connection:Phone: 1-828-552-4129   Conference ID: 694 245 406#
URL:https://www.vayahealth.com/event/cfac-meeting-region-4/2026-10-20/
ORGANIZER;CN="Member Engagement":MAILTO:cfac@vayahealth.com
END:VEVENT
BEGIN:VEVENT
DTSTART;TZID=America/New_York:20261201T180000
DTEND;TZID=America/New_York:20261201T200000
DTSTAMP:20260422T054806
CREATED:20260126T182506Z
LAST-MODIFIED:20260126T182510Z
UID:10001727-1796148000-1796155200@www.vayahealth.com
SUMMARY:CFAC Meeting - Region 4
DESCRIPTION:Consumer and Family Advisory Committee (CFAC) MeetingRegion 4 Counties: Alamance\, Caswell\, Chatham\, Franklin\, Granville\, Person\, Rockingham\, Stokes\, Vance \n\n\n\nSign up to make public comment by emailing your name\, county of residence\, and subject matter to cfac@vayahealth.com or call any CFAC support staff (1-800-893-6246). \n\n\n\nMeeting connection:Phone: 1-828-552-4129   Conference ID: 694 245 406#
URL:https://www.vayahealth.com/event/cfac-meeting-region-4/2026-12-01/
ORGANIZER;CN="Member Engagement":MAILTO:cfac@vayahealth.com
END:VEVENT
END:VCALENDAR